0.0039062500
0.0000000000
0.0000000000
-0.0039062500
-179.998046875
89.998046875
