231.54179999999999
0.00000000000000
0.00000000000000
-231.54179999999999
115.77090000000000
5334607.30119755995
