PDS_VERSION_ID = PDS3
RECORD_TYPE = FIXED_LENGTH
RECORD_BYTES = 21284
FILE_RECORDS = 19040
^IMAGE = "MDIS_MD3_128PPD_H02SW2.IMG"
/* Map-projected Multispectral RDR Identification */
DATA_SET_ID = "MESS-H-MDIS-5-RDR-MD3-V1.0"
PRODUCT_ID = "MDIS_MD3_128PPD_H02SW2"
INSTRUMENT_HOST_NAME = "MESSENGER"
INSTRUMENT_NAME = "MERCURY DUAL IMAGING SYSTEM WIDE ANGLE CAMERA"
INSTRUMENT_ID = "MDIS-WAC"
TARGET_NAME = MERCURY
PRODUCT_TYPE = MAP_PROJECTED_MD3
PRODUCT_CREATION_TIME = 2017-01-13T23:55:40.486
START_TIME = "N/A"
STOP_TIME = "N/A"
SPACECRAFT_CLOCK_START_COUNT = "N/A"
SPACECRAFT_CLOCK_STOP_COUNT = "N/A"
PRODUCT_VERSION_ID = "2"
PRODUCER_INSTITUTION_NAME = "APPLIED COHERENT TECHNOLOGY CORPORATION"
SOFTWARE_NAME = "PIPE_CREATE_MDIS_MDR"
SOFTWARE_VERSION_ID = "09.20.11"
OBJECT = IMAGE
  LINES = 2720
  LINE_SAMPLES = 5321
  SAMPLE_TYPE = PC_REAL
  SAMPLE_BITS = 32
  UNIT = "Reflectance"
  BANDS = 7
  BAND_NAME = ("WAC FILTER 6 430 BP 40", "WAC FILTER 7 750 BP 5", "WAC FILTER 9 1000 BP 15", "IMAGE COUNT", "STDEV WAC FILTER 6 430 BP 40", "STDEV WAC FILTER 7 750 BP 5", "STDEV WAC FILTER 9 1000 BP 15")
  BAND_STORAGE_TYPE = BAND_SEQUENTIAL
END_OBJECT = IMAGE
/* Map projection information about this RDR is in the IMAGE_MAP_PROJECTION */
/* object below. */
OBJECT = IMAGE_MAP_PROJECTION
  ^DATA_SET_MAP_PROJECTION = "MD3_MAP.CAT"
  MAP_PROJECTION_TYPE = "EQUIRECTANGULAR"
  A_AXIS_RADIUS = 2439.4
  B_AXIS_RADIUS = 2439.4
  C_AXIS_RADIUS = 2439.4
  FIRST_STANDARD_PARALLEL = "N/A"
  SECOND_STANDARD_PARALLEL = "N/A"
  POSITIVE_LONGITUDE_DIRECTION = "EAST"
  CENTER_LATITUDE = 22.5
  CENTER_LONGITUDE = -67.50
  LINE_FIRST_PIXEL = 1
  LINE_LAST_PIXEL = 2720
  SAMPLE_FIRST_PIXEL = 1
  SAMPLE_LAST_PIXEL = 5321
  MAP_PROJECTION_ROTATION = 0.0
  MAP_RESOLUTION = 128
  MAP_SCALE = 332.703389
  MAXIMUM_LATITUDE = 43.750000
  MINIMUM_LATITUDE = 22.494773
  WESTERNMOST_LONGITUDE = -90.000000
  EASTERNMOST_LONGITUDE = -44.993551
  LINE_PROJECTION_OFFSET = 5599.122950
  SAMPLE_PROJECTION_OFFSET = 2660.618765
  COORDINATE_SYSTEM_TYPE = "BODY-FIXED ROTATING"
  COORDINATE_SYSTEM_NAME = "PLANETOCENTRIC"
END_OBJECT = IMAGE_MAP_PROJECTION
END
