PDS_VERSION_ID = PDS3
/* The source image data definition. */
RECORD_TYPE = FIXED_LENGTH
RECORD_BYTES = 704
FILE_RECORDS = 396
^IMAGE = "MSGR_DEM_ASU_EQ_KERTSMS_O1_120_I_V06.IMG"
/* Identification Information */
DATA_SET_ID = "MESS-H-MDIS-5-DEM-ELEVATION-V1.0"
DATA_SET_NAME = "MESSENGER MERCURY MDIS LEVEL 5 DEM V1.0"
PRODUCER_INSTITUTION_NAME = "ARIZONA STATE UNIVERSITY"
PRODUCER_ID = "ASU"
PRODUCER_FULL_NAME = "MARK ROBINSON, PH.D"
PRODUCT_ID = "MSGR_DEM_ASU_EQ_KERTSMS_O1_120_I_V06"
PRODUCT_VERSION_ID = "1"
PRODUCT_TYPE = DEM
INSTRUMENT_HOST_NAME = MESSENGER
INSTRUMENT_NAME = "MERCURY DUAL IMAGING SYSTEM NARROW ANGLE CAMERA"
INSTRUMENT_ID = "MDIS-NAC"
TARGET_NAME = MERCURY
RATIONALE_DESC = "Created to examine local topographic features of Mercury"
SOFTWARE_NAME = {"ISIS","SOCET SET"}
/* Time Parameters */
START_TIME = "N/A"
STOP_TIME = "N/A"
SPACECRAFT_CLOCK_START_COUNT = "N/A"
SPACECRAFT_CLOCK_STOP_COUNT = "N/A"
PRODUCT_CREATION_TIME = 2016-10-06T05:19:09
/* NOTE: */
/* This raster image is composed of a set of pixels that represent finite */
/* areas, and not discrete points. The center of the upper left pixel is */
/* defined as line and sample (1.0,1.0). The */
/* [LINE,SAMPLE]_PROJECTION_OFFSET elements are the pixel offset from line */
/* and sample (1.0,1.0) to the map projection origin (defined by the */
/* CENTER_LATITUDE and CENTER_LONGITUDE elements). These offset values */
/* are positive when the map projection origin is to the right or below */
/* the center of the upper left pixel. This definition was adopted in */
/* November 2011 by the LROC team. */
OBJECT = IMAGE_MAP_PROJECTION
  ^DATA_SET_MAP_PROJECTION = "DEM_EQU_MAP.CAT"
  MAP_PROJECTION_TYPE = EQUIRECTANGULAR
  A_AXIS_RADIUS = 2439.4
  B_AXIS_RADIUS = 2439.4
  C_AXIS_RADIUS = 2439.4
  COORDINATE_SYSTEM_NAME = PLANETOCENTRIC
  COORDINATE_SYSTEM_TYPE = "BODY-FIXED ROTATING"
  POSITIVE_LONGITUDE_DIRECTION = EAST
  /* NOTE: CENTER_LATITUDE and CENTER_LONGITUDE describe the location */
  /* of the center of projection, which is not necessarily equal to the */
  /* location of the center point of the image. */
  CENTER_LATITUDE = 31.44699983
  CENTER_LONGITUDE = 180.0
  LINE_FIRST_PIXEL = 1
  LINE_LAST_PIXEL = 390
  SAMPLE_FIRST_PIXEL = 1
  SAMPLE_LAST_PIXEL = 352
  MAP_PROJECTION_ROTATION = 0.0
  MAP_RESOLUTION = 354.796
  MAP_SCALE = 0.11999999999986
  MAXIMUM_LATITUDE = 27.91601451
  MINIMUM_LATITUDE = 26.8224294
  EASTERNMOST_LONGITUDE = 146.85070129
  WESTERNMOST_LONGITUDE = 145.68777601
  LINE_PROJECTION_OFFSET = 9904.5
  SAMPLE_PROJECTION_OFFSET = 10385.5
END_OBJECT = IMAGE_MAP_PROJECTION
OBJECT = IMAGE
  DESCRIPTION = "MDIS digital terrain models of high-priority targets"
  LINES = 390
  LINE_SAMPLES = 352
  SAMPLE_TYPE = LSB_UNSIGNED_INTEGER
  SAMPLE_BITS = 16
  SAMPLE_BIT_MASK = 2#1111111111111111#
  MISSING_CONSTANT = 0
  BAND_STORAGE_TYPE = BAND_SEQUENTIAL
  BANDS = 1
END_OBJECT = IMAGE
END
