PDS_VERSION_ID = PDS3
/* PRODUCT DESCRIPTION */
DATA_SET_ID = "CO-SSA-RADAR-5-BIDR-V1.0"
DATA_SET_NAME = "CASSINI ORBITER SSA RADAR 5 BIDR V1.0"
PRODUCER_INSTITUTION_NAME = "JET PROPULSION LABORATORY"
PRODUCER_ID = JPL
PRODUCER_FULL_NAME = "Inst Lead Charles Elachi contact Bryan Stiles"
PRODUCT_ID = BIMQE24S324_D207_E001S02_V02
PRODUCT_VERSION_ID = 02
INSTRUMENT_HOST_NAME = "CASSINI ORBITER"
INSTRUMENT_HOST_ID = CO
INSTRUMENT_NAME = "CASSINI RADAR"
INSTRUMENT_ID = RADAR
TARGET_NAME = ENCELADUS
START_TIME = 2009-306T05:42:01.602
STOP_TIME = 2009-306T06:11:57.102
SPACECRAFT_CLOCK_START_COUNT = 1635834301
SPACECRAFT_CLOCK_STOP_COUNT = 1635836096
PRODUCT_CREATION_TIME = 2010-319T17:18:16.000
SOURCE_PRODUCT_ID = LBDR_02_D207_V02
MISSION_PHASE_NAME = TOUR
MISSION_NAME = "CASSINI-HUYGENS"
SOFTWARE_VERSION_ID = "V1.0"
/* DESCRIPTION OF COMPRESSED AND UNCOMPRESSED FILES */
OBJECT = COMPRESSED_FILE
  FILE_NAME = "BIMQE24S324_D207_E001S02_V02.ZIP"
  RECORD_TYPE = UNDEFINED
  ENCODING_TYPE = ZIP
  INTERCHANGE_FORMAT = BINARY
  UNCOMPRESSED_FILE_NAME = "BIMQE24S324_D207_E001S02_V02.IMG"
  REQUIRED_STORAGE_BYTES = 2877600
  ^DESCRIPTION = "SOFTWARE/SOFTINFO.TXT"
END_OBJECT = COMPRESSED_FILE
OBJECT = UNCOMPRESSED_FILE
  FILE_NAME = "BIMQE24S324_D207_E001S02_V02.IMG"
  RECORD_TYPE = FIXED_LENGTH
  RECORD_BYTES = 1760
  FILE_RECORDS = 1635
  LABEL_RECORDS = 3
  /* POINTERS TO START RECORDS OF OBJECTS IN FILE */
  ^IMAGE = ("BIMQE24S324_D207_E001S02_V02.IMG", 4)
  /* DESCRIPTION OF OBJECTS CONTAINED IN FILE */
  OBJECT = IMAGE
    LINES = 1632
    LINE_SAMPLES = 1760
    SAMPLE_TYPE = "UNSIGNED INTEGER"
    SAMPLE_BITS = 8
    CHECKSUM = 004422196
    SCALING_FACTOR = 1.00000000
    OFFSET = 0.00000000
    MISSING_CONSTANT = "0"
    NOTE = "The data values in this file identify the beam(s) used to produce the backscatter values for each pixel."
  END_OBJECT = IMAGE
  OBJECT = IMAGE_MAP_PROJECTION
    ^DATA_SET_MAP_PROJECTION = "DSMAP.CAT"
    MAP_PROJECTION_TYPE = "OBLIQUE CYLINDRICAL"
    A_AXIS_RADIUS = 252.123300
    B_AXIS_RADIUS = 252.123300
    C_AXIS_RADIUS = 252.123300
    FIRST_STANDARD_PARALLEL = "N/A"
    SECOND_STANDARD_PARALLEL = "N/A"
    POSITIVE_LONGITUDE_DIRECTION = WEST
    CENTER_LATITUDE = 0.000000
    CENTER_LONGITUDE = 0.000000
    REFERENCE_LATITUDE = -88.988295
    REFERENCE_LONGITUDE = 134.031533
    LINE_FIRST_PIXEL = 1
    LINE_LAST_PIXEL = 1632
    SAMPLE_FIRST_PIXEL = 1
    SAMPLE_LAST_PIXEL = 1760
    MAP_PROJECTION_ROTATION = 90.0
    MAP_RESOLUTION = 16.0
    MAP_SCALE = 0.27502381
    MAXIMUM_LATITUDE = 26.05567169
    MINIMUM_LATITUDE = -75.88549042
    EASTERNMOST_LONGITUDE = 254.47653198
    WESTERNMOST_LONGITUDE = 53.54095459
    LINE_PROJECTION_OFFSET = 1871.500
    SAMPLE_PROJECTION_OFFSET = 655.500
    OBLIQUE_PROJ_POLE_LATITUDE = -0.428774
    OBLIQUE_PROJ_POLE_LONGITUDE = 249.104834
    OBLIQUE_PROJ_POLE_ROTATION = 0.916360
    OBLIQUE_PROJ_X_AXIS_VECTOR = ( -0.01227234, -0.01269439, -0.99984411 )
    OBLIQUE_PROJ_Y_AXIS_VECTOR = ( -0.93415777, -0.35650176, 0.01599237 )
    OBLIQUE_PROJ_Z_AXIS_VECTOR = ( -0.35664919, 0.93420841, -0.00748345 )
    LOOK_DIRECTION = RIGHT
    COORDINATE_SYSTEM_TYPE = "BODY-FIXED ROTATING"
    COORDINATE_SYSTEM_NAME = "PLANETOGRAPHIC"
  END_OBJECT = IMAGE_MAP_PROJECTION
END_OBJECT = UNCOMPRESSED_FILE
END
