PDS_VERSION_ID = PDS3
/* PRODUCT DESCRIPTION */
DATA_SET_ID = "CO-SSA-RADAR-5-BIDR-V1.0"
DATA_SET_NAME = "CASSINI ORBITER SSA RADAR 5 BIDR V1.0"
PRODUCER_INSTITUTION_NAME = "JET PROPULSION LABORATORY"
PRODUCER_ID = JPL
PRODUCER_FULL_NAME = "Inst Lead Charles Elachi contact Bryan Stiles"
PRODUCT_ID = BIUQH65S286_D195_T056S04_V03
PRODUCT_VERSION_ID = 03
INSTRUMENT_HOST_NAME = "CASSINI ORBITER"
INSTRUMENT_HOST_ID = CO
INSTRUMENT_NAME = "CASSINI RADAR"
INSTRUMENT_ID = RADAR
TARGET_NAME = TITAN
START_TIME = 2009-157T20:18:20.506
STOP_TIME = 2009-157T20:19:22.837
SPACECRAFT_CLOCK_START_COUNT = 1623013189
SPACECRAFT_CLOCK_STOP_COUNT = 1623013251
PRODUCT_CREATION_TIME = 2017-345T18:00:11.000
SOURCE_PRODUCT_ID = LBDR_14_D195_V03
MISSION_PHASE_NAME = TOUR
MISSION_NAME = "CASSINI-HUYGENS"
SOFTWARE_VERSION_ID = "V1.0"
/* DESCRIPTION OF COMPRESSED AND UNCOMPRESSED FILES */
OBJECT = COMPRESSED_FILE
  FILE_NAME = "BIUQH65S286_D195_T056S04_V03.ZIP"
  RECORD_TYPE = UNDEFINED
  ENCODING_TYPE = ZIP
  INTERCHANGE_FORMAT = BINARY
  UNCOMPRESSED_FILE_NAME = "BIUQH65S286_D195_T056S04_V03.IMG"
  REQUIRED_STORAGE_BYTES = 23407104
  ^DESCRIPTION = "SOFTWARE/SOFTINFO.TXT"
END_OBJECT = COMPRESSED_FILE
OBJECT = UNCOMPRESSED_FILE
  FILE_NAME = "BIUQH65S286_D195_T056S04_V03.IMG"
  RECORD_TYPE = FIXED_LENGTH
  RECORD_BYTES = 10752
  FILE_RECORDS = 2177
  LABEL_RECORDS = 1
  /* POINTERS TO START RECORDS OF OBJECTS IN FILE */
  ^IMAGE = ("BIUQH65S286_D195_T056S04_V03.IMG", 2)
  /* DESCRIPTION OF OBJECTS CONTAINED IN FILE */
  OBJECT = IMAGE
    LINES = 2176
    LINE_SAMPLES = 2688
    SAMPLE_TYPE = "PC_REAL"
    SAMPLE_BITS = 32
    CHECKSUM = 0
    SCALING_FACTOR = 1.00000000
    OFFSET = 0.00000000
    MISSING_CONSTANT = "16#FF7FFFFB#"
    NOTE = "The data values in this file are Synthetic Aperture Radar (SAR) normalized backscatter cross-section values. The values are physical scale (not in dB) and have not been corrected for incidence-angle effects. Biases due to noise have not been removed."
  END_OBJECT = IMAGE
  OBJECT = IMAGE_MAP_PROJECTION
    ^DATA_SET_MAP_PROJECTION = "DSMAP.CAT"
    MAP_PROJECTION_TYPE = "OBLIQUE CYLINDRICAL"
    A_AXIS_RADIUS = 2575.000000
    B_AXIS_RADIUS = 2575.000000
    C_AXIS_RADIUS = 2575.000000
    FIRST_STANDARD_PARALLEL = "N/A"
    SECOND_STANDARD_PARALLEL = "N/A"
    POSITIVE_LONGITUDE_DIRECTION = WEST
    CENTER_LATITUDE = 0.000000
    CENTER_LONGITUDE = 0.000000
    REFERENCE_LATITUDE = -31.924729
    REFERENCE_LONGITUDE = 178.123637
    LINE_FIRST_PIXEL = 1
    LINE_LAST_PIXEL = 2176
    SAMPLE_FIRST_PIXEL = 1
    SAMPLE_LAST_PIXEL = 2688
    MAP_PROJECTION_ROTATION = 90.0
    MAP_RESOLUTION = 128.0
    MAP_SCALE = 0.35111116
    MAXIMUM_LATITUDE = -51.26429596
    MINIMUM_LATITUDE = -77.96530543
    EASTERNMOST_LONGITUDE = 261.76021475
    WESTERNMOST_LONGITUDE = 318.66617565
    LINE_PROJECTION_OFFSET = -7681.500
    SAMPLE_PROJECTION_OFFSET = 639.500
    OBLIQUE_PROJ_POLE_LATITUDE = -26.536812
    OBLIQUE_PROJ_POLE_LONGITUDE = 69.995792
    OBLIQUE_PROJ_POLE_ROTATION = 306.233405
    OBLIQUE_PROJ_X_AXIS_VECTOR = ( -0.84828844, -0.02779029, -0.52880470 )
    OBLIQUE_PROJ_Y_AXIS_VECTOR = ( 0.43213493, 0.54083238, -0.72163685 )
    OBLIQUE_PROJ_Z_AXIS_VECTOR = ( 0.30604920, -0.84067118, -0.44677270 )
    LOOK_DIRECTION = LEFT
    COORDINATE_SYSTEM_TYPE = "BODY-FIXED ROTATING"
    COORDINATE_SYSTEM_NAME = "PLANETOGRAPHIC"
  END_OBJECT = IMAGE_MAP_PROJECTION
END_OBJECT = UNCOMPRESSED_FILE
END
